BEGIN:VCALENDAR
VERSION:2.0
PRODID:spatie/icalendar-generator
DESCRIPTION:Ouchi ハレとケの暮らしのイベント
X-WR-CALDESC:Ouchi ハレとケの暮らしのイベント
REFRESH-INTERVAL;VALUE=DURATION:PT1440M
X-PUBLISHED-TTL:PT1440M
BEGIN:VTIMEZONE
TZID:Asia/Tokyo
BEGIN:STANDARD
DTSTART:20180527T110000Z
TZOFFSETFROM:+0900
TZOFFSETTO:+0900
END:STANDARD
END:VTIMEZONE
BEGIN:VTIMEZONE
TZID:UTC
BEGIN:STANDARD
DTSTART:20250724T053726Z
TZOFFSETFROM:+0000
TZOFFSETTO:+0000
END:STANDARD
END:VTIMEZONE
BEGIN:VEVENT
UID:1994-170
DTSTAMP:20260420T053726Z
SUMMARY:ホンモノの調味料講座　＠SBS学苑さま
LOCATION:SBS学苑パルシェ校さま 黒金町49 パルシェ7Ｆ 静岡
 市葵区
ORGANIZER;CN=haretoke:MAILTO:notand@74works.com
DTSTART;TZID=Asia/Tokyo:20190221T110000
DTEND;TZID=Asia/Tokyo:20190221T130000
X-ALT-DESC;FMTTYPE=TEXT/HTML:毎月第三金曜日 SBS学苑さまにて「
 ホンモノの調味料講座」を開催させていただいていま
 す。 &amp;nbsp\; おうち&amp;hellip\;
CATEGORIES:1day 対面レッスン
URL;VALUE=URI:https://blog.ouchi-haretokenokurashi.jp/mc-events/%e3%83%9b%e
 3%83%b3%e3%83%a2%e3%83%8e%e3%81%ae%e8%aa%bf%e5%91%b3%e6%96%99%e8%ac%9b%e5%
 ba%a7%e3%80%80%ef%bc%a0sbs%e5%ad%a6%e8%8b%91%e3%81%95%e3%81%be-6/?mc_id=19
 94
END:VEVENT
END:VCALENDAR